BEGIN:VCALENDAR
VERSION:2.0
PRODID:-//sjvchurch.net//eCatholic//EN
X-WR-TIMEZONE:LocalTZ
BEGIN:VTIMEZONE
TZID:LocalTZ
X-LIC-LOCATION:LocalTZ
BEGIN:DAYLIGHT
TZOFFSETFROM:-0500
TZOFFSETTO:-0400
TZNAME:LocalTZ
DTSTART:19700308T020000
RRULE:FREQ=YEARLY;BYMONTH=3;BYDAY=2SU
END:DAYLIGHT
BEGIN:STANDARD
TZOFFSETFROM:-0400
TZOFFSETTO:-0500
TZNAME:LocalTZ
DTSTART:19701101T020000
RRULE:FREQ=YEARLY;BYMONTH=11;BYDAY=1SU
END:STANDARD
END:VTIMEZONE
BEGIN:VEVENT
UID:1420182@sjvchurch.net
DTSTAMP:20260424T214434Z
DTSTART:20260501T083000
DTEND:20260501T093000
RRULE:FREQ=MONTHLY;BYDAY=FR;BYSETPOS=1
EXDATE:20210101T083000
SUMMARY:Reconciliation - follows Mass
END:VEVENT
BEGIN:VEVENT
UID:1420167@sjvchurch.net
DTSTAMP:20260424T214434Z
DTSTART:20260425T080000
DTEND:20260425T090000
RRULE:FREQ=WEEKLY;BYDAY=SA
EXDATE:20210403T080000,20221224T080000,20221231T080000
SUMMARY:Daily Mass
END:VEVENT
BEGIN:VEVENT
UID:1420196@sjvchurch.net
DTSTAMP:20260424T214434Z
DTSTART:20260425T083000
DTEND:20260425T093000
RRULE:FREQ=WEEKLY;BYDAY=SA
SUMMARY:Reconciliation- follows Mass
END:VEVENT
BEGIN:VEVENT
UID:1420170@sjvchurch.net
DTSTAMP:20260424T214434Z
DTSTART:20260426T080000
DTEND:20260426T090000
RRULE:FREQ=WEEKLY;BYDAY=SU
EXDATE:20210404T080000,20210919T080000,20221225T080000,20240623T080000
SUMMARY:Sunday Mass
END:VEVENT
BEGIN:VEVENT
UID:1420152@sjvchurch.net
DTSTAMP:20260424T214434Z
DTSTART:20260427T080000
DTEND:20260427T090000
RRULE:FREQ=WEEKLY;BYDAY=MO
EXDATE:20231225T080000,20240101T080000
SUMMARY:Daily Mass
END:VEVENT
BEGIN:VEVENT
UID:1420154@sjvchurch.net
DTSTAMP:20260424T214434Z
DTSTART:20260428T080000
DTEND:20260428T090000
RRULE:FREQ=WEEKLY;BYDAY=TU
SUMMARY:Daily Mass
END:VEVENT
BEGIN:VEVENT
UID:1420156@sjvchurch.net
DTSTAMP:20260424T214434Z
DTSTART:20260429T080000
DTEND:20260429T090000
RRULE:FREQ=WEEKLY;BYDAY=WE
EXDATE:20210217T080000
SUMMARY:Daily Mass
END:VEVENT
BEGIN:VEVENT
UID:1420161@sjvchurch.net
DTSTAMP:20260424T214434Z
DTSTART:20260430T080000
DTEND:20260430T090000
RRULE:FREQ=WEEKLY;BYDAY=TH
EXDATE:20201126T080000,20210401T080000,20221124T080000,20221208T080000
SUMMARY:Daily Mass
END:VEVENT
BEGIN:VEVENT
UID:1420163@sjvchurch.net
DTSTAMP:20260424T214434Z
DTSTART:20260424T080000
DTEND:20260424T090000
RRULE:FREQ=WEEKLY;BYDAY=FR
EXDATE:20210101T080000,20210402T080000
SUMMARY:Daily Mass
END:VEVENT
BEGIN:VEVENT
UID:1420173@sjvchurch.net
DTSTAMP:20260424T214434Z
DTSTART:20260425T170000
DTEND:20260425T180000
RRULE:FREQ=WEEKLY;BYDAY=SA
EXDATE:20221224T170000
SUMMARY:Saturday Mass
END:VEVENT
BEGIN:VEVENT
UID:1438485@sjvchurch.net
DTSTAMP:20260424T214434Z
DTSTART:20260427T120000
DTEND:20260427T130000
RRULE:FREQ=WEEKLY;BYDAY=MO
SUMMARY:A. A.
DESCRIPTION:A. A. Meeting
END:VEVENT
BEGIN:VEVENT
UID:1438469@sjvchurch.net
DTSTAMP:20260424T214434Z
DTSTART:20260428T190000
DTEND:20260428T200000
RRULE:FREQ=WEEKLY;BYDAY=TU
SUMMARY:A. A.
DESCRIPTION:A.A. Meeting
END:VEVENT
BEGIN:VEVENT
UID:1438490@sjvchurch.net
DTSTAMP:20260424T214434Z
DTSTART:20260429T120000
DTEND:20260429T130000
RRULE:FREQ=WEEKLY;BYDAY=WE
SUMMARY:A. A.
DESCRIPTION:A. A. Meeting
END:VEVENT
BEGIN:VEVENT
UID:1438493@sjvchurch.net
DTSTAMP:20260424T214434Z
DTSTART:20260424T120000
DTEND:20260424T130000
RRULE:FREQ=WEEKLY;BYDAY=FR
EXDATE:20200925T120000,20201016T120000,20210423T120000,20210528T120000
SUMMARY:A. A.
DESCRIPTION:A. A. Meeting
END:VEVENT
BEGIN:VEVENT
UID:1472826@sjvchurch.net
DTSTAMP:20260424T214434Z
DTSTART:20260508T183000
DTEND:20260508T210000
RRULE:FREQ=MONTHLY;BYDAY=FR;BYSETPOS=2
EXDATE:20210108T183000,20210212T183000
SUMMARY:Hispanic Night of Prayer
DESCRIPTION:The Hispanic Ministry of San John Vianney Church cordially inv
 ites you to celebrate its Hispanic Night of Prayer with the communities of
  Charles and St. Mary’s counties. These events take place the second Frida
 y of each month from 6:30 to 9:00 p. m in the Vianney Room of our parish.
END:VEVENT
BEGIN:VEVENT
UID:1549984@sjvchurch.net
DTSTAMP:20260424T214434Z
DTSTART:20260427T083000
DTEND:20260427T093000
RRULE:FREQ=WEEKLY;BYDAY=MO
EXDATE:20231225T083000
SUMMARY:Adoration 8:30 am - 1:30 pm
END:VEVENT
BEGIN:VEVENT
UID:1549990@sjvchurch.net
DTSTAMP:20260424T214434Z
DTSTART:20260430T083000
DTEND:20260430T093000
RRULE:FREQ=WEEKLY;BYDAY=TH
SUMMARY:Adoration 8:30 am - 9:00 pm
END:VEVENT
BEGIN:VEVENT
UID:1549991@sjvchurch.net
DTSTAMP:20260424T214434Z
DTSTART:20260501T180000
DTEND:20260501T190000
RRULE:FREQ=MONTHLY;BYDAY=FR;BYSETPOS=1
SUMMARY:Adoration 1st Friday 6:00 pm - Saturday 8:00 am
END:VEVENT
BEGIN:VEVENT
UID:1549992@sjvchurch.net
DTSTAMP:20260424T214434Z
DTSTART:20260508T083000
DTEND:20260508T093000
RRULE:FREQ=MONTHLY;BYDAY=FR;BYSETPOS=2
SUMMARY:Adoration 8:30 am - 1:30 pm
END:VEVENT
BEGIN:VEVENT
UID:1549993@sjvchurch.net
DTSTAMP:20260424T214434Z
DTSTART:20260515T083000
DTEND:20260515T093000
RRULE:FREQ=MONTHLY;BYDAY=FR;BYSETPOS=3
SUMMARY:Adoration 8:30 am - 1:30 pm
END:VEVENT
BEGIN:VEVENT
UID:1549994@sjvchurch.net
DTSTAMP:20260424T214434Z
DTSTART:20260424T083000
DTEND:20260424T093000
RRULE:FREQ=MONTHLY;BYDAY=FR;BYSETPOS=4
SUMMARY:Adoration 8:30 am - 1:30 pm
END:VEVENT
BEGIN:VEVENT
UID:1549983@sjvchurch.net
DTSTAMP:20260424T214434Z
DTSTART:20260429T180000
DTEND:20260429T190000
RRULE:FREQ=WEEKLY;BYDAY=WE
SUMMARY:Adoration 6:00 pm - Midnight
END:VEVENT
BEGIN:VEVENT
UID:1549995@sjvchurch.net
DTSTAMP:20260424T214434Z
DTSTART:20260424T083000
DTEND:20260424T093000
RRULE:FREQ=MONTHLY;BYDAY=FR;BYSETPOS=-1
SUMMARY:Adoration 8:30 am - 1:30 pm
END:VEVENT
BEGIN:VEVENT
UID:1647767@sjvchurch.net
DTSTAMP:20260424T214434Z
DTSTART:20260429T150000
DTEND:20260429T180000
RRULE:FREQ=WEEKLY;BYDAY=WE
EXDATE:20211229T150000
SUMMARY:Food Pantry Open
END:VEVENT
BEGIN:VEVENT
UID:1725754@sjvchurch.net
DTSTAMP:20260424T214434Z
DTSTART:20260509T083000
DTEND:20260509T123000
RRULE:FREQ=MONTHLY;BYDAY=SA;BYSETPOS=2
SUMMARY:Baptismal Preparation Class
END:VEVENT
BEGIN:VEVENT
UID:1725759@sjvchurch.net
DTSTAMP:20260424T214434Z
DTSTART:20260426T150000
DTEND:20260426T153000
RRULE:FREQ=MONTHLY;BYDAY=SU;BYSETPOS=-1
EXDATE:20221225T150000
SUMMARY:Baptisms
END:VEVENT
BEGIN:VEVENT
UID:1786051@sjvchurch.net
DTSTAMP:20260424T214434Z
DTSTART:20260426T183000
DTEND:20260426T200000
RRULE:FREQ=WEEKLY;BYDAY=SU
EXDATE:20231224T183000
SUMMARY:Troop 430
END:VEVENT
BEGIN:VEVENT
UID:1786048@sjvchurch.net
DTSTAMP:20260424T214434Z
DTSTART:20260426T160000
DTEND:20260426T170000
RRULE:FREQ=WEEKLY;BYDAY=SU
EXDATE:20231224T160000
SUMMARY:Cub Scouts
END:VEVENT
BEGIN:VEVENT
UID:1786070@sjvchurch.net
DTSTAMP:20260424T214434Z
DTSTART:20260504T190000
DTEND:20260504T210000
RRULE:FREQ=MONTHLY;BYDAY=MO;BYSETPOS=1
SUMMARY:NAMI Connections Group
END:VEVENT
BEGIN:VEVENT
UID:1890248@sjvchurch.net
DTSTAMP:20260424T214434Z
DTSTART:20260502T083000
DTEND:20260502T093000
RRULE:FREQ=MONTHLY;BYDAY=SA;BYSETPOS=1
SUMMARY:First Saturday Devotion
END:VEVENT
BEGIN:VEVENT
UID:1960682@sjvchurch.net
DTSTAMP:20260424T214434Z
DTSTART:20260426T130000
DTEND:20260426T140000
RRULE:FREQ=WEEKLY;BYDAY=SU
EXDATE:20221211T130000,20221225T130000,20231217T130000,20231224T130000,202
 40623T130000,20251207T130000
SUMMARY:Spanish Mass
END:VEVENT
BEGIN:VEVENT
UID:1960690@sjvchurch.net
DTSTAMP:20260424T214434Z
DTSTART:20260425T183000
DTEND:20260425T193000
RRULE:FREQ=MONTHLY;BYDAY=SA;BYSETPOS=4
EXDATE:20230923T183000
SUMMARY:Hispanic Night of Prayer
END:VEVENT
BEGIN:VEVENT
UID:2245592@sjvchurch.net
DTSTAMP:20260424T214434Z
DTSTART:20260506T190000
DTEND:20260506T200000
RRULE:FREQ=MONTHLY;BYDAY=WE;BYSETPOS=1
SUMMARY:NAMI Support Group
END:VEVENT
BEGIN:VEVENT
UID:2245598@sjvchurch.net
DTSTAMP:20260424T214434Z
DTSTART:20260520T190000
DTEND:20260520T200000
RRULE:FREQ=MONTHLY;BYDAY=WE;BYSETPOS=3
SUMMARY:NAMI Support Group
END:VEVENT
BEGIN:VEVENT
UID:2465615@sjvchurch.net
DTSTAMP:20260424T214434Z
DTSTART:20260424T190000
DTEND:20260424T200000
RRULE:FREQ=MONTHLY;BYDAY=FR;BYSETPOS=4
SUMMARY:Ultreya
DESCRIPTION:Meet in Columbus Room and in Library
END:VEVENT
BEGIN:VEVENT
UID:2481706@sjvchurch.net
DTSTAMP:20260424T214434Z
DTSTART:20260509T100000
DTEND:20260509T120000
RRULE:FREQ=MONTHLY;BYDAY=SA;BYSETPOS=2
SUMMARY:Food Pantry - March through October
END:VEVENT
BEGIN:VEVENT
UID:2513620@sjvchurch.net
DTSTAMP:20260424T214434Z
DTSTART:20260424T190000
DTEND:20260424T210000
RRULE:FREQ=MONTHLY;BYDAY=FR;BYSETPOS=4
SUMMARY:Ultreya Meeting
END:VEVENT
BEGIN:VEVENT
UID:2444794@sjvchurch.net
DTSTAMP:20260424T214434Z
DTSTART:20260426T104500
DTEND:20260426T114500
RRULE:FREQ=WEEKLY;BYDAY=SU
SUMMARY:Sunday Mass
END:VEVENT
BEGIN:VEVENT
UID:2875559@sjvchurch.net
DTSTAMP:20260424T214434Z
DTSTART:20260512T183000
DTEND:20260512T203000
RRULE:FREQ=MONTHLY;BYDAY=TU;BYSETPOS=2
EXDATE:20260714T183000,20260811T183000
SUMMARY:Faith & Fellowship
DESCRIPTION:Monthly Faith & Fellowship event- 6:30 potluck  7:00 program- 
 speaker or video with discussion time\, possible witness talks.\nCome when
  you can. 
END:VEVENT
END:VCALENDAR
